Package: IsoCorrectoRGUI Version: 1.22.0 Command: /Library/Frameworks/R.framework/Resources/bin/R CMD build --keep-empty-dirs --no-resave-data IsoCorrectoRGUI StartedAt: 2025-02-03 19:51:38 -0500 (Mon, 03 Feb 2025) EndedAt: 2025-02-03 19:52:00 -0500 (Mon, 03 Feb 2025) EllapsedTime: 22.3 seconds RetCode: 0 Status: OK PackageFile: IsoCorrectoRGUI_1.22.0.tar.gz PackageFileSize: 438.9 KiB