Package: IsoCorrectoRGUI Version: 1.22.0 Command: /Library/Frameworks/R.framework/Resources/bin/R CMD INSTALL IsoCorrectoRGUI StartedAt: 2025-02-03 15:26:23 -0500 (Mon, 03 Feb 2025) EndedAt: 2025-02-03 15:26:34 -0500 (Mon, 03 Feb 2025) EllapsedTime: 11.8 seconds RetCode: 0 Status: OK