Package: IsoCorrectoRGUI Version: 1.22.0 Command: /home/biocbuild/bbs-3.20-bioc/R/bin/R CMD check --install=check:IsoCorrectoRGUI.install-out.txt --library=/home/biocbuild/bbs-3.20-bioc/R/site-library --timings IsoCorrectoRGUI_1.22.0.tar.gz StartedAt: 2025-02-03 23:31:09 -0500 (Mon, 03 Feb 2025) EndedAt: 2025-02-03 23:31:43 -0500 (Mon, 03 Feb 2025) EllapsedTime: 33.0 seconds RetCode: 0 Status: OK CheckDir: IsoCorrectoRGUI.Rcheck Warnings: 0