Package: IsoCorrectoRGUI Version: 1.22.0 Command: rm -rf IsoCorrectoRGUI.buildbin-libdir && mkdir IsoCorrectoRGUI.buildbin-libdir && F:\biocbuild\bbs-3.20-bioc\R\bin\R.exe CMD INSTALL --build --library=IsoCorrectoRGUI.buildbin-libdir IsoCorrectoRGUI_1.22.0.tar.gz StartedAt: 2025-02-04 08:46:38 -0500 (Tue, 04 Feb 2025) EndedAt: 2025-02-04 08:47:35 -0500 (Tue, 04 Feb 2025) EllapsedTime: 57.1 seconds RetCode: 0 Status: OK PackageFile: IsoCorrectoRGUI_1.22.0.zip PackageFileSize: 484.1 KiB