Package: IsoCorrectoRGUI Version: 1.22.0 Command: chmod a+r IsoCorrectoRGUI -R && F:\biocbuild\bbs-3.20-bioc\R\bin\R.exe CMD build --keep-empty-dirs --no-resave-data IsoCorrectoRGUI StartedAt: 2025-02-03 19:58:08 -0500 (Mon, 03 Feb 2025) EndedAt: 2025-02-03 19:58:39 -0500 (Mon, 03 Feb 2025) EllapsedTime: 30.9 seconds RetCode: 0 Status: OK PackageFile: IsoCorrectoRGUI_1.22.0.tar.gz PackageFileSize: 439.1 KiB