Package: IsoformSwitchAnalyzeR Version: 2.6.0 Command: /Library/Frameworks/R.framework/Resources/bin/R CMD INSTALL IsoformSwitchAnalyzeR StartedAt: 2024-11-19 15:38:16 -0500 (Tue, 19 Nov 2024) EndedAt: 2024-11-19 15:39:45 -0500 (Tue, 19 Nov 2024) EllapsedTime: 88.9 seconds RetCode: 0 Status: OK