Package: IsoformSwitchAnalyzeR Version: 2.6.0 Command: /Library/Frameworks/R.framework/Resources/bin/R CMD build --keep-empty-dirs --no-resave-data IsoformSwitchAnalyzeR StartedAt: 2025-02-03 19:51:50 -0500 (Mon, 03 Feb 2025) EndedAt: 2025-02-03 19:58:58 -0500 (Mon, 03 Feb 2025) EllapsedTime: 427.4 seconds RetCode: 0 Status: OK PackageFile: IsoformSwitchAnalyzeR_2.6.0.tar.gz PackageFileSize: 6.593 MiB