Package: IsoformSwitchAnalyzeR
Version: 2.5.0
Command: rm -rf IsoformSwitchAnalyzeR.buildbin-libdir && mkdir IsoformSwitchAnalyzeR.buildbin-libdir && F:\biocbuild\bbs-3.20-bioc\R\bin\R.exe CMD INSTALL --build --library=IsoformSwitchAnalyzeR.buildbin-libdir IsoformSwitchAnalyzeR_2.5.0.tar.gz
StartedAt: 2024-06-10 13:59:50 -0400 (Mon, 10 Jun 2024)
EndedAt: 2024-06-10 14:02:52 -0400 (Mon, 10 Jun 2024)
EllapsedTime: 182.0 seconds
RetCode: 0
Status: OK
PackageFile: IsoformSwitchAnalyzeR_2.5.0.zip
PackageFileSize: 5.257 <A href="http://en.wikipedia.org/wiki/MiB" target="_blank">MiB</A>