Package: IsoformSwitchAnalyzeR Version: 2.6.0 Command: chmod a+r IsoformSwitchAnalyzeR -R && F:\biocbuild\bbs-3.20-bioc\R\bin\R.exe CMD build --keep-empty-dirs --no-resave-data IsoformSwitchAnalyzeR StartedAt: 2025-02-17 19:44:00 -0500 (Mon, 17 Feb 2025) EndedAt: 2025-02-17 19:49:47 -0500 (Mon, 17 Feb 2025) EllapsedTime: 346.4 seconds RetCode: 0 Status: OK PackageFile: IsoformSwitchAnalyzeR_2.6.0.tar.gz PackageFileSize: 4.487 <A href="http://en.wikipedia.org/wiki/MiB" target="_blank">MiB</A>