Package: IsoformSwitchAnalyzeR Version: 2.6.0 Command: F:\biocbuild\bbs-3.20-bioc\R\bin\R.exe CMD INSTALL IsoformSwitchAnalyzeR StartedAt: 2025-02-03 17:04:20 -0500 (Mon, 03 Feb 2025) EndedAt: 2025-02-03 17:08:23 -0500 (Mon, 03 Feb 2025) EllapsedTime: 243.9 seconds RetCode: 0 Status: OK