Package: IsoformSwitchAnalyzeR Version: 2.6.0 Command: /home/biocbuild/R/R/bin/R CMD build --keep-empty-dirs --no-resave-data IsoformSwitchAnalyzeR StartedAt: 2025-02-04 00:29:45 -0000 (Tue, 04 Feb 2025) EndedAt: 2025-02-04 00:34:51 -0000 (Tue, 04 Feb 2025) EllapsedTime: 306.1 seconds RetCode: 0 Status: OK PackageFile: IsoformSwitchAnalyzeR_2.6.0.tar.gz PackageFileSize: 4.81 MiB