Package: IsoformSwitchAnalyzeR Version: 2.6.0 Command: /home/biocbuild/R/R/bin/R CMD INSTALL IsoformSwitchAnalyzeR StartedAt: 2025-02-03 21:11:57 -0000 (Mon, 03 Feb 2025) EndedAt: 2025-02-03 21:13:19 -0000 (Mon, 03 Feb 2025) EllapsedTime: 81.9 seconds RetCode: 0 Status: OK