Package: KBoost Version: 1.14.0 Command: /home/biocbuild/bbs-3.20-bioc/R/bin/R CMD build --keep-empty-dirs --no-resave-data --md5 KBoost StartedAt: 2025-02-03 17:57:41 -0500 (Mon, 03 Feb 2025) EndedAt: 2025-02-03 17:57:48 -0500 (Mon, 03 Feb 2025) EllapsedTime: 7.0 seconds RetCode: 0 Status: OK PackageFile: KBoost_1.14.0.tar.gz PackageFileSize: 506.3 KiB