Package: KBoost Version: 1.14.0 Command: /home/biocbuild/bbs-3.20-bioc/R/bin/R CMD INSTALL KBoost StartedAt: 2025-02-03 15:13:27 -0500 (Mon, 03 Feb 2025) EndedAt: 2025-02-03 15:13:31 -0500 (Mon, 03 Feb 2025) EllapsedTime: 3.9 seconds RetCode: 0 Status: OK