Package: KCsmart Version: 2.64.0 Command: F:\biocbuild\bbs-3.20-bioc\R\bin\R.exe CMD INSTALL KCsmart StartedAt: 2025-02-03 16:13:45 -0500 (Mon, 03 Feb 2025) EndedAt: 2025-02-03 16:14:16 -0500 (Mon, 03 Feb 2025) EllapsedTime: 31.0 seconds RetCode: 0 Status: OK