Package: KCsmart Version: 2.64.0 Command: /home/biocbuild/R/R/bin/R CMD check --install=check:KCsmart.install-out.txt --library=/home/biocbuild/R/R/site-library --no-vignettes --timings KCsmart_2.64.0.tar.gz StartedAt: 2025-02-04 08:14:49 -0000 (Tue, 04 Feb 2025) EndedAt: 2025-02-04 08:16:27 -0000 (Tue, 04 Feb 2025) EllapsedTime: 97.1 seconds RetCode: 0 Status: WARNINGS CheckDir: KCsmart.Rcheck Warnings: 1