Package: KEGGREST Version: 1.46.0 Command: /Library/Frameworks/R.framework/Resources/bin/R CMD build --keep-empty-dirs --no-resave-data KEGGREST StartedAt: 2025-02-04 02:11:33 -0500 (Tue, 04 Feb 2025) EndedAt: 2025-02-04 02:12:13 -0500 (Tue, 04 Feb 2025) EllapsedTime: 39.7 seconds RetCode: 0 Status: OK PackageFile: KEGGREST_1.46.0.tar.gz PackageFileSize: 233.5 KiB