Package: KEGGREST Version: 1.46.0 Command: rm -rf KEGGREST.buildbin-libdir && mkdir KEGGREST.buildbin-libdir && F:\biocbuild\bbs-3.20-bioc\R\bin\R.exe CMD INSTALL --build --library=KEGGREST.buildbin-libdir KEGGREST_1.46.0.tar.gz StartedAt: 2025-01-31 08:55:16 -0500 (Fri, 31 Jan 2025) EndedAt: 2025-01-31 08:55:43 -0500 (Fri, 31 Jan 2025) EllapsedTime: 27.5 seconds RetCode: 0 Status: OK PackageFile: KEGGREST_1.46.0.zip PackageFileSize: 400.7 KiB