Package: KEGGREST Version: 1.46.0 Command: chmod a+r KEGGREST -R && F:\biocbuild\bbs-3.20-bioc\R\bin\R.exe CMD build --keep-empty-dirs --no-resave-data KEGGREST StartedAt: 2025-01-30 19:45:49 -0500 (Thu, 30 Jan 2025) EndedAt: 2025-01-30 19:46:28 -0500 (Thu, 30 Jan 2025) EllapsedTime: 38.8 seconds RetCode: 0 Status: OK PackageFile: KEGGREST_1.46.0.tar.gz PackageFileSize: 233.6 KiB