Package: KEGGREST Version: 1.46.0 Command: /home/biocbuild/R/R/bin/R CMD INSTALL KEGGREST StartedAt: 2025-01-30 20:14:54 -0000 (Thu, 30 Jan 2025) EndedAt: 2025-01-30 20:15:06 -0000 (Thu, 30 Jan 2025) EllapsedTime: 11.7 seconds RetCode: 0 Status: OK