Package: KEGGgraph Version: 1.66.0 Command: /Library/Frameworks/R.framework/Resources/bin/R CMD check --install=check:KEGGgraph.install-out.txt --library=/Library/Frameworks/R.framework/Resources/library --no-vignettes --timings KEGGgraph_1.66.0.tar.gz StartedAt: 2025-02-04 05:30:05 -0500 (Tue, 04 Feb 2025) EndedAt: 2025-02-04 05:32:46 -0500 (Tue, 04 Feb 2025) EllapsedTime: 160.8 seconds RetCode: 0 Status: WARNINGS CheckDir: KEGGgraph.Rcheck Warnings: 1