Package: KEGGgraph Version: 1.66.0 Command: /home/biocbuild/bbs-3.20-bioc/R/bin/R CMD INSTALL KEGGgraph StartedAt: 2025-02-03 15:17:24 -0500 (Mon, 03 Feb 2025) EndedAt: 2025-02-03 15:17:37 -0500 (Mon, 03 Feb 2025) EllapsedTime: 13.1 seconds RetCode: 0 Status: OK