Package: KEGGlincs Version: 1.32.0 Command: /Library/Frameworks/R.framework/Resources/bin/R CMD INSTALL KEGGlincs StartedAt: 2025-02-03 15:38:36 -0500 (Mon, 03 Feb 2025) EndedAt: 2025-02-03 15:39:12 -0500 (Mon, 03 Feb 2025) EllapsedTime: 36.3 seconds RetCode: 0 Status: OK