Package: KEGGlincs
Version: 1.31.0
Command: C:\Users\biocbuild\bbs-3.20-bioc\R\bin\R.exe CMD check --no-multiarch --install=check:KEGGlincs.install-out.txt --library=C:\Users\biocbuild\bbs-3.20-bioc\R\library --no-vignettes --timings KEGGlincs_1.31.0.tar.gz
StartedAt: 2024-07-16 01:11:13 -0400 (Tue, 16 Jul 2024)
EndedAt: 2024-07-16 01:14:47 -0400 (Tue, 16 Jul 2024)
EllapsedTime: 213.3 seconds
RetCode: 0
Status: OK
CheckDir: KEGGlincs.Rcheck
Warnings: 0