Package: KEGGlincs Version: 1.32.0 Command: /home/biocbuild/R/R/bin/R CMD INSTALL KEGGlincs StartedAt: 2025-02-03 20:37:53 -0000 (Mon, 03 Feb 2025) EndedAt: 2025-02-03 20:38:15 -0000 (Mon, 03 Feb 2025) EllapsedTime: 21.6 seconds RetCode: 0 Status: OK