Package: KinSwingR Version: 1.24.0 Command: /Library/Frameworks/R.framework/Resources/bin/R CMD INSTALL KinSwingR StartedAt: 2025-02-10 15:49:52 -0500 (Mon, 10 Feb 2025) EndedAt: 2025-02-10 15:49:58 -0500 (Mon, 10 Feb 2025) EllapsedTime: 6.1 seconds RetCode: 0 Status: OK