Package: KinSwingR Version: 1.24.0 Command: /home/biocbuild/R/R/bin/R CMD build --keep-empty-dirs --no-resave-data KinSwingR StartedAt: 2025-01-31 00:31:52 -0000 (Fri, 31 Jan 2025) EndedAt: 2025-01-31 00:32:26 -0000 (Fri, 31 Jan 2025) EllapsedTime: 34.0 seconds RetCode: 0 Status: OK PackageFile: KinSwingR_1.24.0.tar.gz PackageFileSize: 631.3 KiB