Package: LACE Version: 2.10.0 Command: /Library/Frameworks/R.framework/Resources/bin/R CMD check --install=check:LACE.install-out.txt --library=/Library/Frameworks/R.framework/Resources/library --no-vignettes --timings LACE_2.10.0.tar.gz StartedAt: 2025-02-04 23:49:03 -0500 (Tue, 04 Feb 2025) EndedAt: 2025-02-04 23:55:16 -0500 (Tue, 04 Feb 2025) EllapsedTime: 373.1 seconds RetCode: 0 Status: OK CheckDir: LACE.Rcheck Warnings: 0