Package: LACE Version: 2.10.0 Command: rm -rf LACE.buildbin-libdir && mkdir LACE.buildbin-libdir && F:\biocbuild\bbs-3.20-bioc\R\bin\R.exe CMD INSTALL --build --library=LACE.buildbin-libdir LACE_2.10.0.tar.gz StartedAt: 2025-02-04 08:47:55 -0500 (Tue, 04 Feb 2025) EndedAt: 2025-02-04 08:48:51 -0500 (Tue, 04 Feb 2025) EllapsedTime: 55.8 seconds RetCode: 0 Status: OK PackageFile: LACE_2.10.0.zip PackageFileSize: 2.931 MiB