Package: LACE Version: 2.10.0 Command: /home/biocbuild/R/R/bin/R CMD build --keep-empty-dirs --no-resave-data LACE StartedAt: 2025-02-04 00:32:50 -0000 (Tue, 04 Feb 2025) EndedAt: 2025-02-04 00:33:51 -0000 (Tue, 04 Feb 2025) EllapsedTime: 61.0 seconds RetCode: 0 Status: OK PackageFile: LACE_2.10.0.tar.gz PackageFileSize: 4.146 MiB