Package: LBE
Version: 1.74.0
Command: rm -rf LBE.buildbin-libdir && mkdir LBE.buildbin-libdir && /Users/biocbuild/BBS/utils/build-universal.sh LBE_1.74.0.tar.gz /Library/Frameworks/R.framework/Resources/bin/R LBE.buildbin-libdir
StartedAt: 2025-02-19 15:42:45 -0500 (Wed, 19 Feb 2025)
EndedAt: 2025-02-19 15:42:48 -0500 (Wed, 19 Feb 2025)
EllapsedTime: 3.2 seconds
RetCode: 0
Status: OK
PackageFile: LBE_1.74.0.tgz
PackageFileSize: 811.7 <A href="http://en.wikipedia.org/wiki/KiB" target="_blank">KiB</A>