Package: LBE Version: 1.74.0 Command: /home/biocbuild/bbs-3.20-bioc/R/bin/R CMD INSTALL LBE StartedAt: 2025-02-03 15:13:43 -0500 (Mon, 03 Feb 2025) EndedAt: 2025-02-03 15:13:47 -0500 (Mon, 03 Feb 2025) EllapsedTime: 4.7 seconds RetCode: 0 Status: OK