Package: LBE Version: 1.74.0 Command: rm -rf LBE.buildbin-libdir && mkdir LBE.buildbin-libdir && F:\biocbuild\bbs-3.20-bioc\R\bin\R.exe CMD INSTALL --build --library=LBE.buildbin-libdir LBE_1.74.0.tar.gz StartedAt: 2025-02-04 08:48:04 -0500 (Tue, 04 Feb 2025) EndedAt: 2025-02-04 08:48:15 -0500 (Tue, 04 Feb 2025) EllapsedTime: 10.3 seconds RetCode: 0 Status: OK PackageFile: LBE_1.74.0.zip PackageFileSize: 816.1 KiB