Package: LEA Version: 3.18.0 Command: rm -rf LEA.buildbin-libdir && mkdir LEA.buildbin-libdir && /Users/biocbuild/BBS/utils/build-universal.sh LEA_3.18.0.tar.gz /Library/Frameworks/R.framework/Resources/bin/R LEA.buildbin-libdir StartedAt: 2025-02-05 16:25:01 -0500 (Wed, 05 Feb 2025) EndedAt: 2025-02-05 16:25:25 -0500 (Wed, 05 Feb 2025) EllapsedTime: 23.7 seconds RetCode: 0 Status: OK PackageFile: LEA_3.18.0.tgz PackageFileSize: 951.5 KiB