Package: LEA Version: 3.18.0 Command: /Library/Frameworks/R.framework/Resources/bin/R CMD build --keep-empty-dirs --no-resave-data LEA StartedAt: 2025-02-03 19:55:17 -0500 (Mon, 03 Feb 2025) EndedAt: 2025-02-03 19:58:11 -0500 (Mon, 03 Feb 2025) EllapsedTime: 174.2 seconds RetCode: 0 Status: OK PackageFile: LEA_3.18.0.tar.gz PackageFileSize: 740.3 KiB