Package: LEA Version: 3.18.0 Command: /Library/Frameworks/R.framework/Resources/bin/R CMD check --install=check:LEA.install-out.txt --library=/Library/Frameworks/R.framework/Resources/library --no-vignettes --timings LEA_3.18.0.tar.gz StartedAt: 2025-02-04 05:34:36 -0500 (Tue, 04 Feb 2025) EndedAt: 2025-02-04 05:38:48 -0500 (Tue, 04 Feb 2025) EllapsedTime: 252.3 seconds RetCode: 0 Status: OK CheckDir: LEA.Rcheck Warnings: 0