Package: LEA Version: 3.18.0 Command: /home/biocbuild/bbs-3.20-bioc/R/bin/R CMD build --keep-empty-dirs --no-resave-data --md5 LEA StartedAt: 2025-02-03 17:59:04 -0500 (Mon, 03 Feb 2025) EndedAt: 2025-02-03 18:00:39 -0500 (Mon, 03 Feb 2025) EllapsedTime: 94.1 seconds RetCode: 0 Status: OK PackageFile: LEA_3.18.0.tar.gz PackageFileSize: 748.3 KiB