Package: LEA Version: 3.18.0 Command: /home/biocbuild/bbs-3.20-bioc/R/bin/R CMD check --install=check:LEA.install-out.txt --library=/home/biocbuild/bbs-3.20-bioc/R/site-library --timings LEA_3.18.0.tar.gz StartedAt: 2025-02-03 23:37:18 -0500 (Mon, 03 Feb 2025) EndedAt: 2025-02-03 23:40:43 -0500 (Mon, 03 Feb 2025) EllapsedTime: 205.2 seconds RetCode: 0 Status: OK CheckDir: LEA.Rcheck Warnings: 0