Package: LEA Version: 3.18.0 Command: /home/biocbuild/bbs-3.20-bioc/R/bin/R CMD INSTALL LEA StartedAt: 2025-02-03 15:13:45 -0500 (Mon, 03 Feb 2025) EndedAt: 2025-02-03 15:14:03 -0500 (Mon, 03 Feb 2025) EllapsedTime: 17.9 seconds RetCode: 0 Status: OK