Package: LEA Version: 3.18.0 Command: chmod a+r LEA -R && F:\biocbuild\bbs-3.20-bioc\R\bin\R.exe CMD build --keep-empty-dirs --no-resave-data LEA StartedAt: 2025-02-03 20:01:48 -0500 (Mon, 03 Feb 2025) EndedAt: 2025-02-03 20:05:08 -0500 (Mon, 03 Feb 2025) EllapsedTime: 200.1 seconds RetCode: 0 Status: OK PackageFile: LEA_3.18.0.tar.gz PackageFileSize: 742.4 KiB