Package: LEA Version: 3.18.0 Command: F:\biocbuild\bbs-3.20-bioc\R\bin\R.exe CMD check --no-multiarch --install=check:LEA.install-out.txt --library=F:\biocbuild\bbs-3.20-bioc\R\library --no-vignettes --timings LEA_3.18.0.tar.gz StartedAt: 2025-02-04 03:10:26 -0500 (Tue, 04 Feb 2025) EndedAt: 2025-02-04 03:13:38 -0500 (Tue, 04 Feb 2025) EllapsedTime: 192.2 seconds RetCode: 0 Status: OK CheckDir: LEA.Rcheck Warnings: 0