Package: LEA Version: 3.18.0 Command: /home/biocbuild/R/R/bin/R CMD check --install=check:LEA.install-out.txt --library=/home/biocbuild/R/R/site-library --no-vignettes --timings LEA_3.18.0.tar.gz StartedAt: 2025-02-04 08:18:27 -0000 (Tue, 04 Feb 2025) EndedAt: 2025-02-04 08:21:09 -0000 (Tue, 04 Feb 2025) EllapsedTime: 162.3 seconds RetCode: 0 Status: OK CheckDir: LEA.Rcheck Warnings: 0