Package: LEA Version: 3.18.0 Command: /home/biocbuild/R/R/bin/R CMD INSTALL LEA StartedAt: 2025-02-10 20:09:03 -0000 (Mon, 10 Feb 2025) EndedAt: 2025-02-10 20:09:24 -0000 (Mon, 10 Feb 2025) EllapsedTime: 20.9 seconds RetCode: 0 Status: OK