Package: LOBSTAHS Version: 1.32.0 Command: /Library/Frameworks/R.framework/Resources/bin/R CMD build --keep-empty-dirs --no-resave-data LOBSTAHS StartedAt: 2025-02-04 02:19:50 -0500 (Tue, 04 Feb 2025) EndedAt: 2025-02-04 02:21:13 -0500 (Tue, 04 Feb 2025) EllapsedTime: 82.4 seconds RetCode: 0 Status: OK PackageFile: LOBSTAHS_1.32.0.tar.gz PackageFileSize: 2.903 MiB