Package: LOBSTAHS Version: 1.32.0 Command: /Library/Frameworks/R.framework/Resources/bin/R CMD check --install=check:LOBSTAHS.install-out.txt --library=/Library/Frameworks/R.framework/Resources/library --no-vignettes --timings LOBSTAHS_1.32.0.tar.gz StartedAt: 2025-02-05 00:03:10 -0500 (Wed, 05 Feb 2025) EndedAt: 2025-02-05 00:13:21 -0500 (Wed, 05 Feb 2025) EllapsedTime: 611.1 seconds RetCode: 0 Status: WARNINGS CheckDir: LOBSTAHS.Rcheck Warnings: 1