Package: LOBSTAHS Version: 1.32.0 Command: /Library/Frameworks/R.framework/Resources/bin/R CMD check --install=check:LOBSTAHS.install-out.txt --library=/Library/Frameworks/R.framework/Resources/library --no-vignettes --timings LOBSTAHS_1.32.0.tar.gz StartedAt: 2025-02-04 05:39:06 -0500 (Tue, 04 Feb 2025) EndedAt: 2025-02-04 05:50:35 -0500 (Tue, 04 Feb 2025) EllapsedTime: 688.9 seconds RetCode: 0 Status: WARNINGS CheckDir: LOBSTAHS.Rcheck Warnings: 1