Package: LOBSTAHS Version: 1.32.0 Command: F:\biocbuild\bbs-3.20-bioc\R\bin\R.exe CMD check --no-multiarch --install=check:LOBSTAHS.install-out.txt --library=F:\biocbuild\bbs-3.20-bioc\R\library --no-vignettes --timings LOBSTAHS_1.32.0.tar.gz StartedAt: 2025-02-04 03:13:40 -0500 (Tue, 04 Feb 2025) EndedAt: 2025-02-04 03:20:22 -0500 (Tue, 04 Feb 2025) EllapsedTime: 402.1 seconds RetCode: 0 Status: WARNINGS CheckDir: LOBSTAHS.Rcheck Warnings: 1