Package: LOBSTAHS Version: 1.32.0 Command: /home/biocbuild/R/R/bin/R CMD build --keep-empty-dirs --no-resave-data LOBSTAHS StartedAt: 2025-02-04 00:35:30 -0000 (Tue, 04 Feb 2025) EndedAt: 2025-02-04 00:36:44 -0000 (Tue, 04 Feb 2025) EllapsedTime: 74.0 seconds RetCode: 0 Status: OK PackageFile: LOBSTAHS_1.32.0.tar.gz PackageFileSize: 2.903 MiB