Package: LOBSTAHS Version: 1.32.0 Command: /home/biocbuild/R/R/bin/R CMD INSTALL LOBSTAHS StartedAt: 2025-02-03 21:08:10 -0000 (Mon, 03 Feb 2025) EndedAt: 2025-02-03 21:09:08 -0000 (Mon, 03 Feb 2025) EllapsedTime: 58.2 seconds RetCode: 0 Status: OK