Package: LPE Version: 1.80.0 Command: /Library/Frameworks/R.framework/Resources/bin/R CMD build --keep-empty-dirs --no-resave-data LPE StartedAt: 2025-02-04 02:20:46 -0500 (Tue, 04 Feb 2025) EndedAt: 2025-02-04 02:21:01 -0500 (Tue, 04 Feb 2025) EllapsedTime: 14.5 seconds RetCode: 0 Status: OK PackageFile: LPE_1.80.0.tar.gz PackageFileSize: 437 KiB